BEGIN:VCALENDAR
VERSION:2.0
PRODID:-//Parc des Expositions d'Alès Agglomération//agenda::fr
METHOD:PUBLISH
X-WR-CALNAME:Parc des Expositions d'Alès Agglomération
X-WR-CALDESC:Le Parc des expositions d’Alès Agglomération\, situé à moins de 10 minutes du centre ville d’Alès accueille tout au long de l’année des événements de tous ordres : salons\, spectacles\, foires\, évènements sportives\, congrès...
X-WR-RELCALID:75080975
BEGIN:VEVENT
UID:75080975//89761350//2025-01-15//17:30:00Z
DTSTART:20250115T173000Z
DTEND:20250115T193000Z
DTSTAMP:20260422T091900Z
TZID:Europe-Paris
SUMMARY:Vœux d’Alès Agglomération
DESCRIPTION:Christophe Rivenq\, président d'Alès Agglomération\, les vice-p
 résidents\, les maires et les conseillers communautaires vous invitent à l
 a cérémonie d'Alès Agglomération. Voir plus: https://openagenda.com/parc-d
 es-expositions-ales-agglomeration/events/voeux-a-la-population-3752624
STATUS:CONFIRMED
URL:https://openagenda.com/parc-des-expositions-ales-agglomeration/events/v
 oeux-a-la-population-3752624
LAST-MODIFIED:20241220T135400Z
LOCATION:Parc des expositions - Route d’Uzès\, 30340 Méjannes-lès-Alès
GEO:44.097401;4.147482
ORGANIZER:OA
END:VEVENT
END:VCALENDAR