BEGIN:VCALENDAR
VERSION:2.0
PRODID:-//Musée bibliothèque Pierre André Benoit//agenda::fr
METHOD:PUBLISH
X-WR-CALNAME:Musée bibliothèque Pierre André Benoit
X-WR-CALDESC:Situé à deux pas du centre-ville d’Alès\, le musée PAB présente une riche collection d’art moderne et contemporain. Pierre André Benoit (PAB)\, imprimeur\, poète\, sculpteur et dessinateur\, a fait don de sa collection d’œuvres d’art moderne à la Ville d’Alès pour créer le musée qui porte son nom.
X-WR-RELCALID:30694842
BEGIN:VEVENT
UID:30694842//88951290//2026-05-14//13:00:00Z
DTSTART:20260514T130000Z
DTEND:20260514T140000Z
DTSTAMP:20260419T120900Z
TZID:Europe-Paris
SUMMARY:Visite guidée
DESCRIPTION:Une découverte de l’exposition temporaire ILIAZD – poète-archit
 ecte du livre par un médiateur culturel du musée. Voir plus: https://opena
 genda.com/musee-bibliotheque-pierre-andre-benoit/events/visite-guidee-1571
 115
STATUS:CONFIRMED
URL:https://openagenda.com/musee-bibliotheque-pierre-andre-benoit/events/vi
 site-guidee-1571115
LAST-MODIFIED:20260417T083300Z
LOCATION:Musée PAB - 52 montée des Lauriers\, 30100 Alès
GEO:44.130742;4.069285
ORGANIZER:OA
END:VEVENT
END:VCALENDAR