BEGIN:VCALENDAR
VERSION:2.0
PRODID:-//Centre national de Pomologie//agenda::fr
METHOD:PUBLISH
X-WR-CALNAME:Centre national de Pomologie
X-WR-CALDESC:Centre de ressources spécialisé sur les variétés fruitières\, le Centre national de Pomologie (CNP) œuvre depuis près de 25 ans pour la sauvegarde\, la connaissance et la valorisation des espèces et variétés fruitières cultivées en France.
X-WR-RELCALID:49794064
BEGIN:VEVENT
UID:49794064//78797235//2026-05-20//12:00:00Z
DTSTART:20260520T120000Z
DTEND:20260520T150000Z
DTSTAMP:20260423T134700Z
TZID:Europe-Paris
SUMMARY:Fraise Battle !
DESCRIPTION:Un concours culinaire pour les amateurs\, les experts et les pr
 os. Voir plus: https://openagenda.com/centre-national-de-pomologie/events/
 fraise-battle
STATUS:CONFIRMED
URL:https://openagenda.com/centre-national-de-pomologie/events/fraise-battl
 e
LAST-MODIFIED:20260401T125800Z
LOCATION:Les Terrasses du Bosquet - Rue d’Hombres Firmas\, parc du Bosquet\
 , 30100 Alès
GEO:44.125345;4.074773
ORGANIZER:OA
END:VEVENT
END:VCALENDAR