BEGIN:VCALENDAR
VERSION:2.0
PRODID:-//Centre national de Pomologie//agenda::fr
METHOD:PUBLISH
X-WR-CALNAME:Centre national de Pomologie
X-WR-CALDESC:Centre de ressources spécialisé sur les variétés fruitières\, le Centre national de Pomologie (CNP) œuvre depuis près de 25 ans pour la sauvegarde\, la connaissance et la valorisation des espèces et variétés fruitières cultivées en France.
X-WR-RELCALID:49794064
BEGIN:VEVENT
UID:49794064//58160336//2026-06-06//08:00:00Z
DTSTART:20260606T080000Z
DTEND:20260606T160000Z
DTSTAMP:20260422T155000Z
TZID:Europe-Paris
SUMMARY:Flânerie artistique
DESCRIPTION:Un jardin transformé en atelier d'artiste à ciel ouvert. Voir p
 lus: https://openagenda.com/centre-national-de-pomologie/events/flanerie-a
 rtistique-2968781
STATUS:CONFIRMED
URL:https://openagenda.com/centre-national-de-pomologie/events/flanerie-art
 istique-2968781
LAST-MODIFIED:20260226T125300Z
LOCATION:Les Terrasses du Bosquet - Rue d’Hombres Firmas\, parc du Bosquet\
 , 30100 Alès
GEO:44.125345;4.074773
ORGANIZER:OA
END:VEVENT
END:VCALENDAR