BEGIN:VCALENDAR
VERSION:2.0
PRODID:-//Alès Agglomération//agenda::fr
METHOD:PUBLISH
X-WR-CALNAME:Alès Agglomération
X-WR-CALDESC:Agenda des événements de la ville d'Alès et de son agglomération
X-WR-RELCALID:78891697
BEGIN:VEVENT
UID:78891697//85474643//2026-05-06//08:00:00Z
DTSTART:20260506T080000Z
DTEND:20260506T093000Z
DTSTAMP:20260421T111400Z
TZID:Europe-Paris
SUMMARY:Visite commentée du jardin médiéval
DESCRIPTION:Sur le thème “hygiène et soins du corps au Moyen-Âge”. Voir plu
 s: https://openagenda.com/ales-agglomeration/events/visite-commentee-du-ja
 rdin-medieval-7470139
STATUS:CONFIRMED
URL:https://openagenda.com/ales-agglomeration/events/visite-commentee-du-ja
 rdin-medieval-7470139
LAST-MODIFIED:20260420T084000Z
LOCATION:Jardin médiéval - 1204 Chemin de la Vigère 30480 Cendras
GEO:44.153898;4.045573
ORGANIZER:OA
END:VEVENT
END:VCALENDAR