BEGIN:VCALENDAR
VERSION:2.0
PRODID:-//Alès Agglomération//agenda::fr
METHOD:PUBLISH
X-WR-CALNAME:Alès Agglomération
X-WR-CALDESC:Agenda des événements de la ville d'Alès et de son agglomération
X-WR-RELCALID:78891697
BEGIN:VEVENT
UID:78891697//27844044//2026-05-25//05:00:00Z
DTSTART:20260525T050000Z
DTEND:20260525T150000Z
DTSTAMP:20260420T154900Z
TZID:Europe-Paris
SUMMARY:Vide-greniers
DESCRIPTION:Accueil des exposants à partir de 6h. Voir plus: https://openag
 enda.com/ales-agglomeration/events/vide-greniers-8337284
STATUS:CONFIRMED
URL:https://openagenda.com/ales-agglomeration/events/vide-greniers-8337284
LAST-MODIFIED:20260420T082200Z
LOCATION:Champ de foire de Brouzet-lès-Alès - 30580 Brouzet-lès-Alès
GEO:44.135966;4.247149
ORGANIZER:OA
END:VEVENT
END:VCALENDAR