BEGIN:VCALENDAR
VERSION:2.0
PRODID:-//Alès Agglomération//agenda::fr
METHOD:PUBLISH
X-WR-CALNAME:Alès Agglomération
X-WR-CALDESC:Agenda des événements de la ville d'Alès et de son agglomération
X-WR-RELCALID:78891697
BEGIN:VEVENT
UID:78891697//92951800//2026-01-20//11:30:00Z
DTSTART:20260120T113000Z
DTEND:20260120T133000Z
DTSTAMP:20260421T094200Z
TZID:Europe-Paris
SUMMARY:Repas choucroute
DESCRIPTION:Un repas dégustation du célèbre plat alsacien. Voir plus: https
 ://openagenda.com/ales-agglomeration/events/repas-choucroute-3436140
STATUS:CONFIRMED
URL:https://openagenda.com/ales-agglomeration/events/repas-choucroute-34361
 40
LAST-MODIFIED:20251216T144300Z
LOCATION:Espace Georges Brun - 10 rue Jean Giono\, 30340 Saint-Privat-des-V
 ieux
GEO:44.144333;4.129237
ORGANIZER:OA
END:VEVENT
END:VCALENDAR