BEGIN:VCALENDAR
VERSION:2.0
PRODID:-//Alès Agglomération//agenda::fr
METHOD:PUBLISH
X-WR-CALNAME:Alès Agglomération
X-WR-CALDESC:Agenda des événements de la ville d'Alès et de son agglomération
X-WR-RELCALID:78891697
BEGIN:VEVENT
UID:78891697//51565647//2026-03-28//13:00:00Z
DTSTART:20260328T130000Z
DTEND:20260328T153000Z
DTSTAMP:20260425T140200Z
TZID:Europe-Paris
SUMMARY:Repair’Café
DESCRIPTION:Venez réparer tous types d’objets (petit électroménager essenti
 ellement) avec l’appui d’étudiants de l’École des Mines bénévoles. Voir pl
 us: https://openagenda.com/ales-agglomeration/events/repaircafe-3065488
STATUS:CONFIRMED
URL:https://openagenda.com/ales-agglomeration/events/repaircafe-3065488
LAST-MODIFIED:20260305T125500Z
LOCATION:Médiathèque Alphonse Daudet - 24 rue Edgar Quinet \, 30100 Alès
GEO:44.123987;4.083278
ORGANIZER:OA
END:VEVENT
END:VCALENDAR