BEGIN:VCALENDAR
VERSION:2.0
PRODID:-//Alès Agglomération//agenda::fr
METHOD:PUBLISH
X-WR-CALNAME:Alès Agglomération
X-WR-CALDESC:Agenda des événements de la ville d'Alès et de son agglomération
X-WR-RELCALID:78891697
BEGIN:VEVENT
UID:78891697//17901266//2026-04-19//12:00:00Z
DTSTART:20260419T120000Z
DTEND:20260419T173000Z
DTSTAMP:20260421T093900Z
TZID:Europe-Paris
SUMMARY:Prends le micro
DESCRIPTION:Scéne ouverte Voir plus: https://openagenda.com/ales-agglomerat
 ion/events/prend-le-micro
STATUS:CONFIRMED
URL:https://openagenda.com/ales-agglomeration/events/prend-le-micro
LAST-MODIFIED:20260417T090000Z
LOCATION:Place du 8 Mai 1945 - 30140 Anduze
GEO:44.054907;3.985941
ORGANIZER:OA
END:VEVENT
END:VCALENDAR