BEGIN:VCALENDAR
VERSION:2.0
PRODID:-//Alès Agglomération//agenda::fr
METHOD:PUBLISH
X-WR-CALNAME:Alès Agglomération
X-WR-CALDESC:Agenda des événements de la ville d'Alès et de son agglomération
X-WR-RELCALID:78891697
BEGIN:VEVENT
UID:78891697//13890052//2026-05-21//16:00:00Z
DTSTART:20260521T160000Z
DTEND:20260521T170000Z
DTSTAMP:20260421T093900Z
TZID:Europe-Paris
SUMMARY:Petite conférence santé
DESCRIPTION:“Le sommeil\, équilibre\, perturbations... comment l’améliorer 
 ?”\, par Dr Karine Delaumône. Voir plus: https://openagenda.com/ales-agglo
 meration/events/petite-conference-sante-2142432
STATUS:CONFIRMED
URL:https://openagenda.com/ales-agglomeration/events/petite-conference-sant
 e-2142432
LAST-MODIFIED:20260409T140900Z
LOCATION:Mairie - 30360 Saint-Jean-de-Ceyrargues
GEO:44.050822;4.226953
ORGANIZER:OA
END:VEVENT
END:VCALENDAR