BEGIN:VCALENDAR
VERSION:2.0
PRODID:-//Alès Agglomération//agenda::fr
METHOD:PUBLISH
X-WR-CALNAME:Alès Agglomération
X-WR-CALDESC:Agenda des événements de la ville d'Alès et de son agglomération
X-WR-RELCALID:78891697
BEGIN:VEVENT
UID:78891697//6404976//2026-05-23//18:30:00Z
DTSTART:20260523T183000Z
DTEND:20260523T203000Z
DTSTAMP:20260423T052000Z
TZID:Europe-Paris
SUMMARY:Nuit européenne des musées - Visite guidée nocturne de la cité médi
 évale de Vézénobres
DESCRIPTION:À l’occasion de la Nuit européenne des musées\, venez vivre une
  expérience hors du temps au cœur de Vézénobres. Voir plus: https://openag
 enda.com/ales-agglomeration/events/nuit-des-musees-visite-nocturne-de-la-c
 ite-medievale-de-vezenobres
STATUS:CONFIRMED
URL:https://openagenda.com/ales-agglomeration/events/nuit-des-musees-visite
 -nocturne-de-la-cite-medievale-de-vezenobres
LAST-MODIFIED:20260409T142500Z
LOCATION:Maison de la Figue - Les Terrasses du Château\, 30360 Vézénobres
GEO:44.052863;4.136296
ORGANIZER:OA
END:VEVENT
END:VCALENDAR