BEGIN:VCALENDAR
VERSION:2.0
PRODID:-//Alès Agglomération//agenda::fr
METHOD:PUBLISH
X-WR-CALNAME:Alès Agglomération
X-WR-CALDESC:Agenda des événements de la ville d'Alès et de son agglomération
X-WR-RELCALID:78891697
BEGIN:VEVENT
UID:78891697//41754893//2025-05-24//07:00:00Z
DTSTART:20250524T070000Z
DTEND:20250524T143000Z
DTSTAMP:20260420T142200Z
TZID:Europe-Paris
SUMMARY:Mont Bouquet Trail
DESCRIPTION:13 km (500 D+)\, 25 km (1000 D+) et 40 km (1500 D+)\, randonnée
  de 13 km et course enfants (9 - 15 ans). Voir plus: https://openagenda.co
 m/ales-agglomeration/events/mont-bouquet-trail
STATUS:CONFIRMED
URL:https://openagenda.com/ales-agglomeration/events/mont-bouquet-trail
LAST-MODIFIED:20250403T085300Z
LOCATION:Champ de foire de Brouzet-lès-Alès - 30580 Brouzet-lès-Alès
GEO:44.135966;4.247149
ORGANIZER:OA
END:VEVENT
END:VCALENDAR