BEGIN:VCALENDAR
VERSION:2.0
PRODID:-//Alès Agglomération//agenda::fr
METHOD:PUBLISH
X-WR-CALNAME:Alès Agglomération
X-WR-CALDESC:Agenda des événements de la ville d'Alès et de son agglomération
X-WR-RELCALID:78891697
BEGIN:VEVENT
UID:78891697//79760319//2026-05-18//16:00:00Z
DTSTART:20260518T160000Z
DTEND:20260518T180000Z
DTSTAMP:20260423T204000Z
TZID:Europe-Paris
SUMMARY:Loto et cinéma
DESCRIPTION:Projection en plein air du documentaire "Le vivant qui se défen
 d". Voir plus: https://openagenda.com/ales-agglomeration/events/loto-et-ci
 nema
STATUS:CONFIRMED
URL:https://openagenda.com/ales-agglomeration/events/loto-et-cinema
LAST-MODIFIED:20260422T074700Z
LOCATION:Salle polyvalente - Place de la mairie 30530 Chamborigaud
GEO:44.303531;3.974419
ORGANIZER:OA
END:VEVENT
END:VCALENDAR