BEGIN:VCALENDAR
VERSION:2.0
PRODID:-//Alès Agglomération//agenda::fr
METHOD:PUBLISH
X-WR-CALNAME:Alès Agglomération
X-WR-CALDESC:Agenda des événements de la ville d'Alès et de son agglomération
X-WR-RELCALID:78891697
BEGIN:VEVENT
UID:78891697//52783982//2026-05-06//08:00:00Z
DTSTART:20260506T080000Z
DTEND:20260506T090000Z
DTSTAMP:20260423T185900Z
TZID:Europe-Paris
SUMMARY:L’Heure du conte
DESCRIPTION:Histoires pour les enfants à partir de l’âge de 2 ans avec l’as
 sociation Graine de lire. Voir plus: https://openagenda.com/ales-agglomera
 tion/events/lheure-du-conte-4720827
STATUS:CONFIRMED
URL:https://openagenda.com/ales-agglomeration/events/lheure-du-conte-472082
 7
LAST-MODIFIED:20260420T065500Z
LOCATION:Médiathèque - Place du Millénaire\, 30380 Saint-Christol-lès-Alès
GEO:44.082895;4.077748
ORGANIZER:OA
END:VEVENT
END:VCALENDAR