BEGIN:VCALENDAR
VERSION:2.0
PRODID:-//Alès Agglomération//agenda::fr
METHOD:PUBLISH
X-WR-CALNAME:Alès Agglomération
X-WR-CALDESC:Agenda des événements de la ville d'Alès et de son agglomération
X-WR-RELCALID:78891697
BEGIN:VEVENT
UID:78891697//88572584//2026-05-08//06:00:00Z
DTSTART:20260508T060000Z
DTEND:20260508T160000Z
DTSTAMP:20260423T015800Z
TZID:Europe-Paris
SUMMARY:Les Puces d’Anduze
DESCRIPTION:Un moment pour chiner\, flâner et faire de belles trouvailles a
 u marché aux puces sur les berges du Gardon. Voir plus: https://openagenda
 .com/ales-agglomeration/events/les-puces-danduze
STATUS:CONFIRMED
URL:https://openagenda.com/ales-agglomeration/events/les-puces-danduze
LAST-MODIFIED:20260420T074700Z
LOCATION:Anduze - 30140 Anduze
GEO:44.054567;3.985708
ORGANIZER:OA
END:VEVENT
END:VCALENDAR