BEGIN:VCALENDAR
VERSION:2.0
PRODID:-//Alès Agglomération//agenda::fr
METHOD:PUBLISH
X-WR-CALNAME:Alès Agglomération
X-WR-CALDESC:Agenda des événements de la ville d'Alès et de son agglomération
X-WR-RELCALID:78891697
BEGIN:VEVENT
UID:78891697//41632800//2026-02-11//13:00:00Z
DTSTART:20260211T130000Z
DTEND:20260211T150000Z
DTSTAMP:20260421T094300Z
TZID:Europe-Paris
SUMMARY:Les Mercredis du Pôle - Atelier "Lego® Mindstorm®"
DESCRIPTION:Défi Robotique Voir plus: https://openagenda.com/ales-agglomera
 tion/events/les-mercredis-du-pole-atelier-legor-mindstormr
STATUS:CONFIRMED
URL:https://openagenda.com/ales-agglomeration/events/les-mercredis-du-pole-
 atelier-legor-mindstormr
LAST-MODIFIED:20260108T081000Z
LOCATION:Pôle culturel et scientifique de Rochebelle - 155 faubourg de Roch
 ebelle\, 30100 Alès
GEO:44.130064;4.068028
ORGANIZER:OA
END:VEVENT
END:VCALENDAR