BEGIN:VCALENDAR
VERSION:2.0
PRODID:-//Alès Agglomération//agenda::fr
METHOD:PUBLISH
X-WR-CALNAME:Alès Agglomération
X-WR-CALDESC:Agenda des événements de la ville d'Alès et de son agglomération
X-WR-RELCALID:78891697
BEGIN:VEVENT
UID:78891697//6901539//2026-05-16//18:00:00Z
DTSTART:20260516T180000Z
DTEND:20260516T200000Z
DTSTAMP:20260425T212700Z
TZID:Europe-Paris
SUMMARY:L’amour de Roméo et Juliette
DESCRIPTION:Une version portée par Valérie Bournet et Pépita Car. Mise en s
 cène de Philippe Car. Représentation suivie d’un échange avec les artistes
 . Voir plus: https://openagenda.com/ales-agglomeration/events/lamour-de-ro
 meo-et-juliette
STATUS:CONFIRMED
URL:https://openagenda.com/ales-agglomeration/events/lamour-de-romeo-et-jul
 iette
LAST-MODIFIED:20260409T132600Z
LOCATION:Salle Louis-Aragon - 41 montée de l'Aubradou\, 30960 Saint-Florent
 -sur-Auzonnet
GEO:44.237364;4.12086
ORGANIZER:OA
END:VEVENT
END:VCALENDAR