BEGIN:VCALENDAR
VERSION:2.0
PRODID:-//Alès Agglomération//agenda::fr
METHOD:PUBLISH
X-WR-CALNAME:Alès Agglomération
X-WR-CALDESC:Agenda des événements de la ville d'Alès et de son agglomération
X-WR-RELCALID:78891697
BEGIN:VEVENT
UID:78891697//77937779//2026-05-25//12:00:00Z
DTSTART:20260525T120000Z
DTEND:20260525T160000Z
DTSTAMP:20260420T172500Z
TZID:Europe-Paris
SUMMARY:Je m'appelle forêt
DESCRIPTION:Balade poétique et musicale autour du rôle des arbres et l’impa
 ct des activités humaines sur le milieu forestier. Voir plus: https://open
 agenda.com/ales-agglomeration/events/je-mappelle-foret
STATUS:CONFIRMED
URL:https://openagenda.com/ales-agglomeration/events/je-mappelle-foret
LAST-MODIFIED:20260413T070500Z
LOCATION:Le Chambon - 30450 Le Chambon
GEO:44.3007;4.01796
ORGANIZER:OA
END:VEVENT
END:VCALENDAR