BEGIN:VCALENDAR
VERSION:2.0
PRODID:-//Alès Agglomération//agenda::fr
METHOD:PUBLISH
X-WR-CALNAME:Alès Agglomération
X-WR-CALDESC:Agenda des événements de la ville d'Alès et de son agglomération
X-WR-RELCALID:78891697
BEGIN:VEVENT
UID:78891697//91064967//2026-05-03//09:00:00Z
DTSTART:20260503T090000Z
DTEND:20260503T093000Z
DTSTAMP:20260426T032800Z
TZID:Europe-Paris
SUMMARY:Inauguration du square Aboubakar Cissé
DESCRIPTION:Participez à l’ouverture officielle du square Aboubakar Cissé V
 oir plus: https://openagenda.com/ales-agglomeration/events/inauguration-du
 -square-aboubakar-cisse
STATUS:CONFIRMED
URL:https://openagenda.com/ales-agglomeration/events/inauguration-du-square
 -aboubakar-cisse
LAST-MODIFIED:20260420T065300Z
LOCATION:Trescol - 30110 La Grand-Combe
GEO:44.217296;4.013648
ORGANIZER:OA
END:VEVENT
END:VCALENDAR