BEGIN:VCALENDAR
VERSION:2.0
PRODID:-//Alès Agglomération//agenda::fr
METHOD:PUBLISH
X-WR-CALNAME:Alès Agglomération
X-WR-CALDESC:Agenda des événements de la ville d'Alès et de son agglomération
X-WR-RELCALID:78891697
BEGIN:VEVENT
UID:78891697//76462240//2026-05-05//12:30:00Z
DTSTART:20260505T123000Z
DTEND:20260505T150000Z
DTSTAMP:20260420T102900Z
TZID:Europe-Paris
SUMMARY:“Halte aux flammes”
DESCRIPTION:Balade de sensibilisation au risque incendie. Voir plus: https:
 //openagenda.com/ales-agglomeration/events/halte-aux-flammes
STATUS:CONFIRMED
URL:https://openagenda.com/ales-agglomeration/events/halte-aux-flammes
LAST-MODIFIED:20260409T123500Z
LOCATION:Portes - 30530 Portes
GEO:44.2705;4.02114
ORGANIZER:OA
END:VEVENT
END:VCALENDAR