BEGIN:VCALENDAR
VERSION:2.0
PRODID:-//Alès Agglomération//agenda::fr
METHOD:PUBLISH
X-WR-CALNAME:Alès Agglomération
X-WR-CALDESC:Agenda des événements de la ville d'Alès et de son agglomération
X-WR-RELCALID:78891697
BEGIN:VEVENT
UID:78891697//13868143//2026-05-03//09:00:00Z
DTSTART:20260503T090000Z
DTEND:20260503T160000Z
DTSTAMP:20260420T172600Z
TZID:Europe-Paris
SUMMARY:Fête du Printemps
DESCRIPTION:Marché de producteurs et d’artisans locaux\, concerts de Louisi
 ana Stomp (jazz). Voir plus: https://openagenda.com/ales-agglomeration/eve
 nts/fete-du-printemps-9405577
STATUS:CONFIRMED
URL:https://openagenda.com/ales-agglomeration/events/fete-du-printemps-9405
 577
LAST-MODIFIED:20260420T082800Z
LOCATION:Le Chambon - 30450 Le Chambon
GEO:44.3007;4.01796
ORGANIZER:OA
END:VEVENT
END:VCALENDAR