BEGIN:VCALENDAR
VERSION:2.0
PRODID:-//Alès Agglomération//agenda::fr
METHOD:PUBLISH
X-WR-CALNAME:Alès Agglomération
X-WR-CALDESC:Agenda des événements de la ville d'Alès et de son agglomération
X-WR-RELCALID:78891697
BEGIN:VEVENT
UID:78891697//90547500//2026-05-12//12:00:00Z
DTSTART:20260512T120000Z
DTEND:20260512T170000Z
DTSTAMP:20260421T111100Z
TZID:Europe-Paris
SUMMARY:Don du sang
DESCRIPTION:Ensemble\, sauvons des vies... Voir plus: https://openagenda.co
 m/ales-agglomeration/events/don-du-sang-2368959
STATUS:CONFIRMED
URL:https://openagenda.com/ales-agglomeration/events/don-du-sang-2368959
LAST-MODIFIED:20260420T074000Z
LOCATION:Espace Georges Brun - 10 rue Jean Giono\, 30340 Saint-Privat-des-V
 ieux
GEO:44.144333;4.129237
ORGANIZER:OA
END:VEVENT
END:VCALENDAR