BEGIN:VCALENDAR
VERSION:2.0
PRODID:-//Alès Agglomération//agenda::fr
METHOD:PUBLISH
X-WR-CALNAME:Alès Agglomération
X-WR-CALDESC:Agenda des événements de la ville d'Alès et de son agglomération
X-WR-RELCALID:78891697
BEGIN:VEVENT
UID:78891697//10964771//2026-05-12//11:30:00Z
DTSTART:20260512T113000Z
DTEND:20260512T160000Z
DTSTAMP:20260421T104200Z
TZID:Europe-Paris
SUMMARY:Concours de pétanque avec repas
DESCRIPTION:Proposé par l’association Boule loisir. Voir plus: https://open
 agenda.com/ales-agglomeration/events/concours-de-petanque-avec-repas
STATUS:CONFIRMED
URL:https://openagenda.com/ales-agglomeration/events/concours-de-petanque-a
 vec-repas
LAST-MODIFIED:20260420T073900Z
LOCATION:Complexe sportif des Vaupiannes - 68 Chemin des Sports\, 30340 Sai
 nt-Privat-des-Vieux
GEO:44.139007;4.134384
ORGANIZER:OA
END:VEVENT
END:VCALENDAR