BEGIN:VCALENDAR
VERSION:2.0
PRODID:-//Alès Agglomération//agenda::fr
METHOD:PUBLISH
X-WR-CALNAME:Alès Agglomération
X-WR-CALDESC:Agenda des événements de la ville d'Alès et de son agglomération
X-WR-RELCALID:78891697
BEGIN:VEVENT
UID:78891697//75618448//2026-02-13//19:00:00Z
DTSTART:20260213T190000Z
DTEND:20260213T213000Z
DTSTAMP:20260421T094200Z
TZID:Europe-Paris
SUMMARY:Concert des rois
DESCRIPTION:Concert des élèves et professeurs du site de Saint-Privat-des-V
 ieux Voir plus: https://openagenda.com/ales-agglomeration/events/concert-d
 es-rois-502806
STATUS:CONFIRMED
URL:https://openagenda.com/ales-agglomeration/events/concert-des-rois-50280
 6
LAST-MODIFIED:20250924T070000Z
LOCATION:Espace Georges Brun - 10 rue Jean Giono\, 30340 Saint-Privat-des-V
 ieux
GEO:44.144333;4.129237
ORGANIZER:OA
END:VEVENT
END:VCALENDAR