BEGIN:VCALENDAR
VERSION:2.0
PRODID:-//Alès Agglomération//agenda::fr
METHOD:PUBLISH
X-WR-CALNAME:Alès Agglomération
X-WR-CALDESC:Agenda des événements de la ville d'Alès et de son agglomération
X-WR-RELCALID:78891697
BEGIN:VEVENT
UID:78891697//6271849//2026-02-20//19:30:00Z
DTSTART:20260220T193000Z
DTEND:20260220T203000Z
DTSTAMP:20260421T093200Z
TZID:Europe-Paris
SUMMARY:Concert de la chorale Harmony et Variation
DESCRIPTION:Répertoire de chansons françaises de style comédie musicale. Mi
 chel Sardou\, Jean Ferrat\, Patrick Fiori\, Maurane\, Vianney\, … Voir plu
 s: https://openagenda.com/ales-agglomeration/events/concert-de-la-chorale-
 harmony-et-variation
STATUS:CONFIRMED
URL:https://openagenda.com/ales-agglomeration/events/concert-de-la-chorale-
 harmony-et-variation
LAST-MODIFIED:20260115T082500Z
LOCATION:Espace Georges Brun - 10 rue Jean Giono\, 30340 Saint-Privat-des-V
 ieux
GEO:44.144333;4.129237
ORGANIZER:OA
END:VEVENT
END:VCALENDAR