BEGIN:VCALENDAR
VERSION:2.0
PRODID:-//Alès Agglomération//agenda::fr
METHOD:PUBLISH
X-WR-CALNAME:Alès Agglomération
X-WR-CALDESC:Agenda des événements de la ville d'Alès et de son agglomération
X-WR-RELCALID:78891697
BEGIN:VEVENT
UID:78891697//64750035//2026-04-24//19:00:00Z
DTSTART:20260424T190000Z
DTEND:20260424T203000Z
DTSTAMP:20260425T183400Z
TZID:Europe-Paris
SUMMARY:Comédie “Bienvenue à la CAF”
DESCRIPTION:Tout est possible à la Caisse d'Allocations Faciles\, même le p
 ire ! Surtout quand Bernard débarque dans le bureau de Corinne\, pour remp
 lacer Michel qui est mort de fatigue... Voir plus: https://openagenda.com/
 ales-agglomeration/events/comedie-bienvenue-a-la-caf
STATUS:CONFIRMED
URL:https://openagenda.com/ales-agglomeration/events/comedie-bienvenue-a-la
 -caf
LAST-MODIFIED:20260218T083400Z
LOCATION:Pélousse Paradise - 3 rue Josué Louche\, 30100 Alès
GEO:44.123027;4.085327
ORGANIZER:OA
END:VEVENT
END:VCALENDAR