BEGIN:VCALENDAR
VERSION:2.0
PRODID:-//Alès Agglomération//agenda::fr
METHOD:PUBLISH
X-WR-CALNAME:Alès Agglomération
X-WR-CALDESC:Agenda des événements de la ville d'Alès et de son agglomération
X-WR-RELCALID:78891697
BEGIN:VEVENT
UID:78891697//94612226//2026-03-07//13:00:00Z
DTSTART:20260307T130000Z
DTEND:20260307T150000Z
DTSTAMP:20260425T141000Z
TZID:Europe-Paris
SUMMARY:Ateliers créatifs “aquarelle”
DESCRIPTION:Proposée par l’association Essences de vies. Voir plus: https:/
 /openagenda.com/ales-agglomeration/events/ateliers-creatifs-aquarelle
STATUS:CONFIRMED
URL:https://openagenda.com/ales-agglomeration/events/ateliers-creatifs-aqua
 relle
LAST-MODIFIED:20260305T125500Z
LOCATION:Saint-Sébastien-d’Aigrefeuille - 30140 Saint-Sébastien-d’Aigrefeui
 lle
GEO:44.1065;3.99374
ORGANIZER:OA
END:VEVENT
END:VCALENDAR