BEGIN:VCALENDAR
VERSION:2.0
PRODID:-//Alès Agglomération//agenda::fr
METHOD:PUBLISH
X-WR-CALNAME:Alès Agglomération
X-WR-CALDESC:Agenda des événements de la ville d'Alès et de son agglomération
X-WR-RELCALID:78891697
BEGIN:VEVENT
UID:78891697//38368724//2026-02-13//16:30:00Z
DTSTART:20260213T163000Z
DTEND:20260213T183000Z
DTSTAMP:20260421T095300Z
TZID:Europe-Paris
SUMMARY:Atelier d’écriture • La Pépinière à Histoires
DESCRIPTION:Un atelier d’écriture ludique et mémorable facilité par Samanth
 a Aznar. À chaque session\, elle imagine une nouvelle histoire. Voir plus:
  https://openagenda.com/ales-agglomeration/events/atelier-decriture-5-la-p
 epiniere-a-histoires
STATUS:CONFIRMED
URL:https://openagenda.com/ales-agglomeration/events/atelier-decriture-5-la
 -pepiniere-a-histoires
LAST-MODIFIED:20260129T075700Z
LOCATION:Bibliothèque - 30500 Saint-Julien-de-Cassagnas
GEO:44.211598;4.198982
ORGANIZER:OA
END:VEVENT
END:VCALENDAR