BEGIN:VCALENDAR
VERSION:2.0
PRODID:-//Alès Agglomération//agenda::fr
METHOD:PUBLISH
X-WR-CALNAME:Alès Agglomération
X-WR-CALDESC:Agenda des événements de la ville d'Alès et de son agglomération
X-WR-RELCALID:78891697
BEGIN:VEVENT
UID:78891697//98157333//2026-05-11//08:00:00Z
DTSTART:20260511T080000Z
DTEND:20260511T093000Z
DTSTAMP:20260421T180300Z
TZID:Europe-Paris
SUMMARY:Comment porter bébé ?
DESCRIPTION:Atelier de techniques de portage et ses bienfaits. Voir plus: h
 ttps://openagenda.com/ales-agglomeration/events/atelier-bebe-parents-pedia
 tre
STATUS:CONFIRMED
URL:https://openagenda.com/ales-agglomeration/events/atelier-bebe-parents-p
 ediatre
LAST-MODIFIED:20260420T073600Z
LOCATION:La Maison des Colibris - 305 Rue Antoine Emile\, 30340 Méjannes-lè
 s-Alès
GEO:44.100146;4.144908
ORGANIZER:OA
END:VEVENT
END:VCALENDAR