BEGIN:VCALENDAR
VERSION:2.0
PRODID:-//Agenda Culturel Scène des Mondes//agenda::fr
METHOD:PUBLISH
X-WR-CALNAME:Agenda Culturel Scène des Mondes
X-WR-CALDESC:Toute l'actualité culturelle d'Alès et de son agglomération : conférences\, spectacles\, expositions\, musique...
X-WR-RELCALID:69319016
BEGIN:VEVENT
UID:69319016//85643639//2026-05-18//18:30:00Z
DTSTART:20260518T183000Z
DTEND:20260518T194500Z
DTSTAMP:20260420T192500Z
TZID:Europe-Paris
SUMMARY:Wi*-La Peau des arbres
DESCRIPTION:Nathalie Pernette / Compagnie Pernette Voir plus: https://opena
 genda.com/agenda-culturel-scene-des-mondes/events/wi-la-peau-des-arbres
STATUS:CONFIRMED
URL:https://openagenda.com/agenda-culturel-scene-des-mondes/events/wi-la-pe
 au-des-arbres
LAST-MODIFIED:20260107T091100Z
LOCATION:Château d'Allègre-les-Fumades - D37\, 30500 Allègre-les-Fumades
GEO:44.196866;4.265533
ORGANIZER:OA
END:VEVENT
END:VCALENDAR