BEGIN:VCALENDAR
VERSION:2.0
PRODID:-//Agenda Culturel Scène des Mondes//agenda::fr
METHOD:PUBLISH
X-WR-CALNAME:Agenda Culturel Scène des Mondes
X-WR-CALDESC:Toute l'actualité culturelle d'Alès et de son agglomération : conférences\, spectacles\, expositions\, musique...
X-WR-RELCALID:69319016
BEGIN:VEVENT
UID:69319016//65820895//2026-09-30//12:30:00Z
DTSTART:20260930T123000Z
DTEND:20260930T143000Z
DTSTAMP:20260422T121300Z
TZID:Europe-Paris
SUMMARY:Walking On The Moon
DESCRIPTION:Atelier de découverte de l'Astronomie Voir plus: https://openag
 enda.com/agenda-culturel-scene-des-mondes/events/walking-on-the-moon
STATUS:CONFIRMED
URL:https://openagenda.com/agenda-culturel-scene-des-mondes/events/walking-
 on-the-moon
LAST-MODIFIED:20260122T083200Z
LOCATION:École municipale d’Astronomie - Pôle Culturel et Scientifique\, 15
 5 rue du Faubourg de Rochebelle\, 30100 Alès
GEO:44.130207;4.068889
ORGANIZER:OA
END:VEVENT
END:VCALENDAR