BEGIN:VCALENDAR
VERSION:2.0
PRODID:-//Agenda Culturel Scène des Mondes//agenda::fr
METHOD:PUBLISH
X-WR-CALNAME:Agenda Culturel Scène des Mondes
X-WR-CALDESC:Toute l'actualité culturelle d'Alès et de son agglomération : conférences\, spectacles\, expositions\, musique...
X-WR-RELCALID:69319016
BEGIN:VEVENT
UID:69319016//22717471//2026-04-22//13:00:00Z
DTSTART:20260422T130000Z
DTEND:20260422T141500Z
DTSTAMP:20260422T121400Z
TZID:Europe-Paris
SUMMARY:Visite Famille
DESCRIPTION:Découvrez l’histoire du musée des vallées cévenoles et celle de
  l’ancienne filature de soie\, Maison Rouge\, à travers une visite animée 
 par un guide. Voir plus: https://openagenda.com/agenda-culturel-scene-des-
 mondes/events/visite-famille-6791920
STATUS:CONFIRMED
URL:https://openagenda.com/agenda-culturel-scene-des-mondes/events/visite-f
 amille-6791920
LAST-MODIFIED:20260226T084100Z
LOCATION:Maison Rouge – Musée des vallées cévenoles - 5 rue de l’Industrie\
 , 30270 Saint-Jean-du-Gard
GEO:44.104056;3.885587
ORGANIZER:OA
END:VEVENT
END:VCALENDAR