BEGIN:VCALENDAR
VERSION:2.0
PRODID:-//Agenda Culturel Scène des Mondes//agenda::fr
METHOD:PUBLISH
X-WR-CALNAME:Agenda Culturel Scène des Mondes
X-WR-CALDESC:Toute l'actualité culturelle d'Alès et de son agglomération : conférences\, spectacles\, expositions\, musique...
X-WR-RELCALID:69319016
BEGIN:VEVENT
UID:69319016//93673836//2025-09-28//13:00:00Z
DTSTART:20250928T130000Z
DTEND:20250928T140000Z
DTSTAMP:20260422T141400Z
TZID:Europe-Paris
SUMMARY:Visite guidée
DESCRIPTION:Les médiateurs du musée vous proposent une visite guidée de la 
 collection permanente. Voir plus: https://openagenda.com/agenda-culturel-s
 cene-des-mondes/events/visite-du-mois
STATUS:CONFIRMED
URL:https://openagenda.com/agenda-culturel-scene-des-mondes/events/visite-d
 u-mois
LAST-MODIFIED:20260408T152900Z
LOCATION:Maison Rouge – Musée des vallées cévenoles - 5 rue de l’Industrie\
 , 30270 Saint-Jean-du-Gard
GEO:44.104056;3.885587
ORGANIZER:OA
END:VEVENT
END:VCALENDAR