BEGIN:VCALENDAR
VERSION:2.0
PRODID:-//Agenda Culturel Scène des Mondes//agenda::fr
METHOD:PUBLISH
X-WR-CALNAME:Agenda Culturel Scène des Mondes
X-WR-CALDESC:Toute l'actualité culturelle d'Alès et de son agglomération : conférences\, spectacles\, expositions\, musique...
X-WR-RELCALID:69319016
BEGIN:VEVENT
UID:69319016//88199547//2026-04-11//12:30:00Z
DTSTART:20260411T123000Z
DTEND:20260411T133000Z
DTSTAMP:20260422T103900Z
TZID:Europe-Paris
SUMMARY:Visite contée et animée (3-6 ans)
DESCRIPTION:ILIAZD et le livre magique Voir plus: https://openagenda.com/ag
 enda-culturel-scene-des-mondes/events/visite-contee-et-animee-3-6-ans
STATUS:CONFIRMED
URL:https://openagenda.com/agenda-culturel-scene-des-mondes/events/visite-c
 ontee-et-animee-3-6-ans
LAST-MODIFIED:20260226T162000Z
LOCATION:Musée PAB - 52 montée des Lauriers\, 30100 Alès
GEO:44.130742;4.069285
ORGANIZER:OA
END:VEVENT
END:VCALENDAR