BEGIN:VCALENDAR
VERSION:2.0
PRODID:-//Agenda Culturel Scène des Mondes//agenda::fr
METHOD:PUBLISH
X-WR-CALNAME:Agenda Culturel Scène des Mondes
X-WR-CALDESC:Toute l'actualité culturelle d'Alès et de son agglomération : conférences\, spectacles\, expositions\, musique...
X-WR-RELCALID:69319016
BEGIN:VEVENT
UID:69319016//44471803//2026-02-25//09:30:00Z
DTSTART:20260225T093000Z
DTEND:20260225T110000Z
DTSTAMP:20260422T121300Z
TZID:Europe-Paris
SUMMARY:Voyage au cœur de la Préhistoire : visite guidée et atelier créatif
  parent-enfant
DESCRIPTION:Explorez la Préhistoire en famille lors d’une visite guidée sui
 vie d’un atelier créatif à partager entre parent et enfant. Un moment priv
 ilégié pour apprendre\, expérimenter et créer ensemble. Voir plus: https:/
 /openagenda.com/agenda-culturel-scene-des-mondes/events/vacances-dhiver-vi
 site-et-creation
STATUS:CONFIRMED
URL:https://openagenda.com/agenda-culturel-scene-des-mondes/events/vacances
 -dhiver-visite-et-creation
LAST-MODIFIED:20260216T154800Z
LOCATION:Préhistorama - 75 chemin de Panissière\, 30340 Rousson
GEO:44.205396;4.131763
ORGANIZER:OA
END:VEVENT
END:VCALENDAR