BEGIN:VCALENDAR
VERSION:2.0
PRODID:-//Agenda Culturel Scène des Mondes//agenda::fr
METHOD:PUBLISH
X-WR-CALNAME:Agenda Culturel Scène des Mondes
X-WR-CALDESC:Toute l'actualité culturelle d'Alès et de son agglomération : conférences\, spectacles\, expositions\, musique...
X-WR-RELCALID:69319016
BEGIN:VEVENT
UID:69319016//53572913//2026-04-24//13:00:00Z
DTSTART:20260424T130000Z
DTEND:20260424T143000Z
DTSTAMP:20260419T133400Z
TZID:Europe-Paris
SUMMARY:Vacances de Printemps : ateliers enfants
DESCRIPTION:Plongez dans l’univers de la mine à travers des ateliers ludiqu
 es et pédagogiques mêlant enquêtes\, expériences scientifiques et création
 s originales\, pour apprendre en s’amusant. Voir plus: https://openagenda.
 com/agenda-culturel-scene-des-mondes/events/vacances-de-printemps-ateliers
 -enfants-9329737
STATUS:CONFIRMED
URL:https://openagenda.com/agenda-culturel-scene-des-mondes/events/vacances
 -de-printemps-ateliers-enfants-9329737
LAST-MODIFIED:20260325T104700Z
LOCATION:Maison du Mineur - Rue Victor Fumat\, 30110 La Grand'Combe
GEO:44.22069;4.034158
ORGANIZER:OA
END:VEVENT
END:VCALENDAR