BEGIN:VCALENDAR
VERSION:2.0
PRODID:-//Agenda Culturel Scène des Mondes//agenda::fr
METHOD:PUBLISH
X-WR-CALNAME:Agenda Culturel Scène des Mondes
X-WR-CALDESC:Toute l'actualité culturelle d'Alès et de son agglomération : conférences\, spectacles\, expositions\, musique...
X-WR-RELCALID:69319016
BEGIN:VEVENT
UID:69319016//622337//2026-04-22//08:30:00Z
DTSTART:20260422T083000Z
DTEND:20260422T100000Z
DTSTAMP:20260422T083800Z
TZID:Europe-Paris
SUMMARY:Vacances de printemps à la Mine Témoin : animations enfants
DESCRIPTION:Pendant les vacances de printemps\, la Mine Témoin propose aux 
 enfants des animations ludiques et pédagogiques : chasse au trésor dans le
 s galeries ou atelier ludique et pédagogique. Voir plus: https://openagend
 a.com/agenda-culturel-scene-des-mondes/events/vacances-de-printemps-a-la-m
 ine-temoin-animations-enfants
STATUS:CONFIRMED
URL:https://openagenda.com/agenda-culturel-scene-des-mondes/events/vacances
 -de-printemps-a-la-mine-temoin-animations-enfants
LAST-MODIFIED:20260410T062400Z
LOCATION:Mine Témoin d’Alès - Chemin de la Cité Sainte Marie\, 30100 Alès
GEO:44.131043;4.067584
ORGANIZER:OA
END:VEVENT
END:VCALENDAR