BEGIN:VCALENDAR
VERSION:2.0
PRODID:-//Agenda Culturel Scène des Mondes//agenda::fr
METHOD:PUBLISH
X-WR-CALNAME:Agenda Culturel Scène des Mondes
X-WR-CALDESC:Toute l'actualité culturelle d'Alès et de son agglomération : conférences\, spectacles\, expositions\, musique...
X-WR-RELCALID:69319016
BEGIN:VEVENT
UID:69319016//7372083//2026-04-18//07:00:00Z
DTSTART:20260418T070000Z
DTEND:20260418T100000Z
DTSTAMP:20260422T115800Z
TZID:Europe-Paris
SUMMARY:Vacances de printemps : visite libre ou guidée / jeu de piste pour 
 les 6-12 ans en autonomie
DESCRIPTION:Profitez des vacances pour découvrir l'histoire minière cévenol
 e Voir plus: https://openagenda.com/agenda-culturel-scene-des-mondes/event
 s/vacances-de-printemps-a-la-maison-du-mineur
STATUS:CONFIRMED
URL:https://openagenda.com/agenda-culturel-scene-des-mondes/events/vacances
 -de-printemps-a-la-maison-du-mineur
LAST-MODIFIED:20260407T121100Z
LOCATION:Maison du Mineur - Rue Victor Fumat\, 30110 La Grand'Combe
GEO:44.22069;4.034158
ORGANIZER:OA
END:VEVENT
END:VCALENDAR