BEGIN:VCALENDAR
VERSION:2.0
PRODID:-//Agenda Culturel Scène des Mondes//agenda::fr
METHOD:PUBLISH
X-WR-CALNAME:Agenda Culturel Scène des Mondes
X-WR-CALDESC:Toute l'actualité culturelle d'Alès et de son agglomération : conférences\, spectacles\, expositions\, musique...
X-WR-RELCALID:69319016
BEGIN:VEVENT
UID:69319016//56263613//2026-10-20//08:30:00Z
DTSTART:20261020T083000Z
DTEND:20261020T100000Z
DTSTAMP:20260422T122100Z
TZID:Europe-Paris
SUMMARY:Vacances d'automne : ateliers enfants
DESCRIPTION:Des ateliers créatifs invitent les enfants à découvrir l’art pr
 éhistorique à travers le modelage\, le dessin\, la gravure et la création 
 de masques. Voir plus: https://openagenda.com/agenda-culturel-scene-des-mo
 ndes/events/vacances-dautomne-ateliers-enfants-2883119
STATUS:CONFIRMED
URL:https://openagenda.com/agenda-culturel-scene-des-mondes/events/vacances
 -dautomne-ateliers-enfants-2883119
LAST-MODIFIED:20260213T085000Z
LOCATION:Préhistorama - 75 chemin de Panissière\, 30340 Rousson
GEO:44.205396;4.131763
ORGANIZER:OA
END:VEVENT
END:VCALENDAR