BEGIN:VCALENDAR
VERSION:2.0
PRODID:-//Agenda Culturel Scène des Mondes//agenda::fr
METHOD:PUBLISH
X-WR-CALNAME:Agenda Culturel Scène des Mondes
X-WR-CALDESC:Toute l'actualité culturelle d'Alès et de son agglomération : conférences\, spectacles\, expositions\, musique...
X-WR-RELCALID:69319016
BEGIN:VEVENT
UID:69319016//84380189//2026-04-27//13:00:00Z
DTSTART:20260427T130000Z
DTEND:20260427T143000Z
DTSTAMP:20260422T090300Z
TZID:Europe-Paris
SUMMARY:Théâtre : “Le Tour du Monde en 80 Jours”
DESCRIPTION:Le Tour du Monde en 80 Jours – Spectacle 4D familial. Par la Co
 mpagnie du Pélousse Paradise\, librement inspiré de l’œuvre de Jules Verne
 . Voir plus: https://openagenda.com/agenda-culturel-scene-des-mondes/event
 s/theatre-le-tour-du-monde-en-80-jours-2822753
STATUS:CONFIRMED
URL:https://openagenda.com/agenda-culturel-scene-des-mondes/events/theatre-
 le-tour-du-monde-en-80-jours-2822753
LAST-MODIFIED:20260218T091100Z
LOCATION:Pélousse Paradise - 3 rue Josué Louche\, 30100 Alès
GEO:44.123027;4.085327
ORGANIZER:OA
END:VEVENT
END:VCALENDAR