BEGIN:VCALENDAR
VERSION:2.0
PRODID:-//Agenda Culturel Scène des Mondes//agenda::fr
METHOD:PUBLISH
X-WR-CALNAME:Agenda Culturel Scène des Mondes
X-WR-CALDESC:Toute l'actualité culturelle d'Alès et de son agglomération : conférences\, spectacles\, expositions\, musique...
X-WR-RELCALID:69319016
BEGIN:VEVENT
UID:69319016//64072255//2026-04-20//13:00:00Z
DTSTART:20260420T130000Z
DTEND:20260420T143000Z
DTSTAMP:20260422T121400Z
TZID:Europe-Paris
SUMMARY:Théâtre : “Le Bossu de Notre-Dame”
DESCRIPTION:Et si on réinventait l'histoire... Voir plus: https://openagend
 a.com/agenda-culturel-scene-des-mondes/events/theatre-le-bossu-de-notre-da
 me
STATUS:CONFIRMED
URL:https://openagenda.com/agenda-culturel-scene-des-mondes/events/theatre-
 le-bossu-de-notre-dame
LAST-MODIFIED:20260218T091200Z
LOCATION:Pélousse Paradise - 3 rue Josué Louche\, 30100 Alès
GEO:44.123027;4.085327
ORGANIZER:OA
END:VEVENT
END:VCALENDAR