BEGIN:VCALENDAR
VERSION:2.0
PRODID:-//Agenda Culturel Scène des Mondes//agenda::fr
METHOD:PUBLISH
X-WR-CALNAME:Agenda Culturel Scène des Mondes
X-WR-CALDESC:Toute l'actualité culturelle d'Alès et de son agglomération : conférences\, spectacles\, expositions\, musique...
X-WR-RELCALID:69319016
BEGIN:VEVENT
UID:69319016//41106413//2026-05-10//12:00:00Z
DTSTART:20260510T120000Z
DTEND:20260510T150000Z
DTSTAMP:20260420T175000Z
TZID:Europe-Paris
SUMMARY:Terrain d'aventures avec la Cie Delá Praká
DESCRIPTION:Avec la complicité d’une équipe en résidence\, des expérien
 ces à tester autour des arts du mouvement et un coin buvette pour se pose
 r. Dès 10 ans. Voir plus: https://openagenda.com/agenda-culturel-scene-de
 s-mondes/events/terrain-daventures-avec-la-cie-dela-praka
STATUS:CONFIRMED
URL:https://openagenda.com/agenda-culturel-scene-des-mondes/events/terrain-
 daventures-avec-la-cie-dela-praka
LAST-MODIFIED:20260420T100800Z
LOCATION:La Verrerie\, Pôle National Cirque Occitanie - 155 rue Faubourg de
  Rochebelle\, 30100 Alès
GEO:44.130064;4.068028
ORGANIZER:OA
END:VEVENT
END:VCALENDAR