BEGIN:VCALENDAR
VERSION:2.0
PRODID:-//Agenda Culturel Scène des Mondes//agenda::fr
METHOD:PUBLISH
X-WR-CALNAME:Agenda Culturel Scène des Mondes
X-WR-CALDESC:Toute l'actualité culturelle d'Alès et de son agglomération : conférences\, spectacles\, expositions\, musique...
X-WR-RELCALID:69319016
BEGIN:VEVENT
UID:69319016//74914625//2026-04-23//12:30:00Z
DTSTART:20260423T123000Z
DTEND:20260423T140000Z
DTSTAMP:20260422T121300Z
TZID:Europe-Paris
SUMMARY:Soyez argile
DESCRIPTION:Ateliers parents et enfants Un moment de pause créative et récr
 éative au musée\, quatre mains pour modeler l'argile et produire une sculp
 ture inspirée des collections. Voir plus: https://openagenda.com/agenda-cu
 lturel-scene-des-mondes/events/soyez-argile
STATUS:CONFIRMED
URL:https://openagenda.com/agenda-culturel-scene-des-mondes/events/soyez-ar
 gile
LAST-MODIFIED:20260225T092900Z
LOCATION:Musée du Colombier - Rue Jean Mayodon\, 30100 Alès
GEO:44.129151;4.081047
ORGANIZER:OA
END:VEVENT
END:VCALENDAR