BEGIN:VCALENDAR
VERSION:2.0
PRODID:-//Agenda Culturel Scène des Mondes//agenda::fr
METHOD:PUBLISH
X-WR-CALNAME:Agenda Culturel Scène des Mondes
X-WR-CALDESC:Toute l'actualité culturelle d'Alès et de son agglomération : conférences\, spectacles\, expositions\, musique...
X-WR-RELCALID:69319016
BEGIN:VEVENT
UID:69319016//46323023//2026-06-14//15:00:00Z
DTSTART:20260614T150000Z
DTEND:20260614T160000Z
DTSTAMP:20260419T133400Z
TZID:Europe-Paris
SUMMARY:Sortie de résidence - Renée Sens ou la métamorphose des chairs - Ci
 e Les Trépidantes
DESCRIPTION:Une première étape de travail ! Voir plus: https://openagenda.c
 om/agenda-culturel-scene-des-mondes/events/sortie-de-residence-renee-sens-
 ou-la-metamorphose-des-chairs-cie-les-trepidantes
STATUS:CONFIRMED
URL:https://openagenda.com/agenda-culturel-scene-des-mondes/events/sortie-d
 e-residence-renee-sens-ou-la-metamorphose-des-chairs-cie-les-trepidantes
LAST-MODIFIED:20260409T134000Z
LOCATION:Espace culturel La Berline - Rue de la Cantine\, 30110 La Grand-Co
 mbe
GEO:44.242481;4.024144
ORGANIZER:OA
END:VEVENT
END:VCALENDAR