BEGIN:VCALENDAR
VERSION:2.0
PRODID:-//Agenda Culturel Scène des Mondes//agenda::fr
METHOD:PUBLISH
X-WR-CALNAME:Agenda Culturel Scène des Mondes
X-WR-CALDESC:Toute l'actualité culturelle d'Alès et de son agglomération : conférences\, spectacles\, expositions\, musique...
X-WR-RELCALID:69319016
BEGIN:VEVENT
UID:69319016//46626197//2024-12-14//13:00:00Z
DTSTART:20241214T130000Z
DTEND:20241214T133000Z
DTSTAMP:20260422T122100Z
TZID:Europe-Paris
SUMMARY:Som Som\, berceuses des habitants d'Alès
DESCRIPTION:Roxane Martin - Spectacle dès 6 mois. Voir plus: https://openag
 enda.com/agenda-culturel-scene-des-mondes/events/som-som-berceuses-des-hab
 itants-dales
STATUS:CONFIRMED
URL:https://openagenda.com/agenda-culturel-scene-des-mondes/events/som-som-
 berceuses-des-habitants-dales
LAST-MODIFIED:20241121T112000Z
LOCATION:Le Cratère Scène Nationale - Bocal - Place Henri Barbusse\, 30100 
 Alès
GEO:44.123914;4.080697
ORGANIZER:OA
END:VEVENT
END:VCALENDAR