BEGIN:VCALENDAR
VERSION:2.0
PRODID:-//Agenda Culturel Scène des Mondes//agenda::fr
METHOD:PUBLISH
X-WR-CALNAME:Agenda Culturel Scène des Mondes
X-WR-CALDESC:Toute l'actualité culturelle d'Alès et de son agglomération : conférences\, spectacles\, expositions\, musique...
X-WR-RELCALID:69319016
BEGIN:VEVENT
UID:69319016//95482975//2026-04-29//18:00:00Z
DTSTART:20260429T180000Z
DTEND:20260429T213000Z
DTSTAMP:20260422T090300Z
TZID:Europe-Paris
SUMMARY:Soirée Filles avec projection du Diable s'Habille en Prada 2
DESCRIPTION:Cocktail d’accueil\, karaoké\, tombola\, jeu concours et de nom
 breux stands découvertes !  Intervention de l’association “Nos héroïnes” V
 oir plus: https://openagenda.com/agenda-culturel-scene-des-mondes/events/s
 oiree-filles-avec-projection-du-diable-shabille-en-prada
STATUS:CONFIRMED
URL:https://openagenda.com/agenda-culturel-scene-des-mondes/events/soiree-f
 illes-avec-projection-du-diable-shabille-en-prada
LAST-MODIFIED:20260403T075200Z
LOCATION:Cineplanet - Place des Martyrs de la Résistance 30100 ALES
GEO:44.126913;4.079067
ORGANIZER:OA
END:VEVENT
END:VCALENDAR