BEGIN:VCALENDAR
VERSION:2.0
PRODID:-//Agenda Culturel Scène des Mondes//agenda::fr
METHOD:PUBLISH
X-WR-CALNAME:Agenda Culturel Scène des Mondes
X-WR-CALDESC:Toute l'actualité culturelle d'Alès et de son agglomération : conférences\, spectacles\, expositions\, musique...
X-WR-RELCALID:69319016
BEGIN:VEVENT
UID:69319016//57004769//2026-05-07//08:00:00Z
DTSTART:20260507T080000Z
DTEND:20260507T160000Z
DTSTAMP:20260422T133500Z
TZID:Europe-Paris
SUMMARY:Alès Japan Otaku Festival
DESCRIPTION:Un événement culturel grand public\, entièrement dédié à l’univ
 ers du Japon\, de l’animation\, du manga\, des jeux vidéo\, du cosplay\, d
 e la pop culture et de la gastronomie japonaise. Voir plus: https://openag
 enda.com/agenda-culturel-scene-des-mondes/events/salon-japan-wave-et-otaku
STATUS:CONFIRMED
URL:https://openagenda.com/agenda-culturel-scene-des-mondes/events/salon-ja
 pan-wave-et-otaku
LAST-MODIFIED:20260324T152300Z
LOCATION:Parc des expositions - Route d’Uzès\, 30340 Méjannes-lès-Alès
GEO:44.097401;4.147482
ORGANIZER:OA
END:VEVENT
END:VCALENDAR