BEGIN:VCALENDAR
VERSION:2.0
PRODID:-//Agenda Culturel Scène des Mondes//agenda::fr
METHOD:PUBLISH
X-WR-CALNAME:Agenda Culturel Scène des Mondes
X-WR-CALDESC:Toute l'actualité culturelle d'Alès et de son agglomération : conférences\, spectacles\, expositions\, musique...
X-WR-RELCALID:69319016
BEGIN:VEVENT
UID:69319016//64635602//2026-04-26//10:00:00Z
DTSTART:20260426T100000Z
DTEND:20260426T150000Z
DTSTAMP:20260420T081900Z
TZID:Europe-Paris
SUMMARY:Repas-concert
DESCRIPTION:Pour découvrir l’association AEGE\, qui reçoit les personnes ap
 hasiques suite à un AVC ou une atteinte cérébrale\, ainsi que leurs proche
 s aidants. Animation avec le groupe “Auprès de Mon Arbre”. Voir plus: http
 s://openagenda.com/agenda-culturel-scene-des-mondes/events/repas-concert-9
 387984
STATUS:CONFIRMED
URL:https://openagenda.com/agenda-culturel-scene-des-mondes/events/repas-co
 ncert-9387984
LAST-MODIFIED:20260324T152500Z
LOCATION:Salle Becmil - 6190 rue Becmil\, 30340 Salindres
GEO:44.167053;4.159996
ORGANIZER:OA
END:VEVENT
END:VCALENDAR