BEGIN:VCALENDAR
VERSION:2.0
PRODID:-//Agenda Culturel Scène des Mondes//agenda::fr
METHOD:PUBLISH
X-WR-CALNAME:Agenda Culturel Scène des Mondes
X-WR-CALDESC:Toute l'actualité culturelle d'Alès et de son agglomération : conférences\, spectacles\, expositions\, musique...
X-WR-RELCALID:69319016
BEGIN:VEVENT
UID:69319016//81623711//2026-05-06//08:00:00Z
DTSTART:20260506T080000Z
DTEND:20260506T100000Z
DTSTAMP:20260422T133600Z
TZID:Europe-Paris
SUMMARY:Rencontre avec l’auteur Gazhole
DESCRIPTION:Il présentera son dernier album jeunesse qui sera offert aux en
 fants (dès 7 ans). Suivi d’un atelier tampon (dès 5 ans) et d’une lecture 
 en partage (dès 6 mois). Voir plus: https://openagenda.com/agenda-culturel
 -scene-des-mondes/events/rencontre-avec-lauteur-gazhole
STATUS:CONFIRMED
URL:https://openagenda.com/agenda-culturel-scene-des-mondes/events/rencontr
 e-avec-lauteur-gazhole
LAST-MODIFIED:20260420T093400Z
LOCATION:Foyer communal de Brignon - 7 D7\, 30190 Brignon
GEO:43.989195;4.213337
ORGANIZER:OA
END:VEVENT
END:VCALENDAR