BEGIN:VCALENDAR
VERSION:2.0
PRODID:-//Agenda Culturel Scène des Mondes//agenda::fr
METHOD:PUBLISH
X-WR-CALNAME:Agenda Culturel Scène des Mondes
X-WR-CALDESC:Toute l'actualité culturelle d'Alès et de son agglomération : conférences\, spectacles\, expositions\, musique...
X-WR-RELCALID:69319016
BEGIN:VEVENT
UID:69319016//56556122//2026-05-24//07:00:00Z
DTSTART:20260524T070000Z
DTEND:20260524T140000Z
DTSTAMP:20260422T140800Z
TZID:Europe-Paris
SUMMARY:FIRA - Festival de la Randonnée en Cévennes
DESCRIPTION:Randonnée "Le tour du mont Ricateau et la Mine Témoin d'Alès" V
 oir plus: https://openagenda.com/agenda-culturel-scene-des-mondes/events/r
 andonnee-le-tour-du-mont-ricateau-et-la-mine-temoin-dales-555578
STATUS:CONFIRMED
URL:https://openagenda.com/agenda-culturel-scene-des-mondes/events/randonne
 e-le-tour-du-mont-ricateau-et-la-mine-temoin-dales-555578
LAST-MODIFIED:20260410T085000Z
LOCATION:Mine Témoin d’Alès - Chemin de la Cité Sainte Marie\, 30100 Alès
GEO:44.131043;4.067584
ORGANIZER:OA
END:VEVENT
END:VCALENDAR